Workbook
Name moto: #REF!
Name 加盟校: #REF!
Name 加盟校2: #REF!
Name 高校名: #REF!
Name 四国大会: #REF!
Name 四国大会: #REF!
Name 種目範囲女子: #REF!
Name 種目範囲男子: #REF!
Name 女継新: #REF!
Name 女追加: #REF!
Name 男継新: #REF!
Name 男追加: #REF!

Sheet 記入上の注意
A1: 競技会参加申込み手続きの方法
B3: １．指定の大会申込みについては、メールと競技会申込一覧データでの申込みとする。
B4: 大会要項や競技会申込一覧データについては、愛媛陸上競技協会のホームページからダウンロードする。
B5: （※競技会申込一覧データは必ず申込先メールアドレスに送信すること。データ送信がない場合は
B6: 申込を受け付けません。）
B7: ２．申込みについては、入力された競技会申込一覧をデータで送信したもののみとする。
B8: ３．申込一覧の入力について
B9: 大会名はさわらないこと。（種目が設定されています）
B10: 所属、所属長名、住所、電話番号、引率者、引率連絡先を入力する。
B11: 参加種目数、プログラム必要数の入力および参加料、プログラム代金額を入力する。
A12: 所属名を入力する。（所属名は「所属コードシート」より検索する。所属名を入力すると自動で所属コードが入力されます）
B13: 所属コードがない場合は空欄でかまわない。
B14: 登録陸協は必須項目。”都道府県”の表示は必要ない（愛媛、徳島、香川、高知など）
B15: ナンバーを半角で入力する。
B16: 氏名は全角で入力する。12バイトでおさまるようにすること。（入力された名前はそのままプログラムにのります）
B17: 姓と名の間を一マスあける。
B18: フリガナを半角で入力する。
B19: 種目はドロップメニューより選択してください。（手入力はしないでください）
B20: 種目のセルをクリックすると矢印が出ます。矢印をクリックすると種目が表示されます。
B21: ４．リレーエントリーの入力について
B22: 所属名、フリガナ、所属コードを入力する。（所属コードは所属コードのSheetより検索する。）
B23: 所属コードがない場合は空欄でかまわない。
B24: 記録は５けたで入力をする。 ４５秒０１ → 04501 ３分２３秒４５ → 32345
... B41: （個人情報については、慎重に取り扱います。）

Sheet 一覧表男子
A1: 競技会申込一覧及び出場認知書
N3: 年 月 日
C4: 愛媛陸上競技協会 様
D6: 大会名 | F6: 第３回新居浜記録会 | T6: 第３回新居浜記録会
D8: 所 属 | I8: 所 属 長
D9: 住 所 | E9: 〒 | I9: 電 話
D11: 引 率 者 | I11: 引率連絡先
D12: 審判協力 | F12: 審判協力者 | K12: 審判部署 | O12: ←審判に協力いただける方は記入をお願いします
D13: 審判協力 | F13: 審判協力者 | K13: 審判部署 | O13: ※10名以上選手がエントリーする団体は必ず1名以上記入お願いします
E15: 男 子 | G15: 参加種目数(必要数) | I15: 金 額 | T15: 〇
F16: 個人種目 | L16: 円 | T16: ×
F17: リレー | L17: 円
F18: プログラム | H18: 部 | L18: 円
F19: 合計金額 | I19: =SUM(I16:K18) -> 0 | L19: 円
D22: 所属コードより | E22: 半角 | F22: 全角 | G22: 半角 | I22: メニューより | K22: 半角 | L22: メニューより | N22: 半角 | O22: メニューより | Q22: 半角
B23: 登録陸協 | C23: 所属名 | D23: 所属コード | E23: ﾅﾝﾊﾞｰ | F23: 氏 名 | G23: ﾌﾘｶﾞﾅ | H23: 学年 | I23: 種目１ | J23: 種目コード | K23: 記 録 | L23: 種目２ | M23: 種目コード | N23: 記 録 | O23: 種目3 | P23: 種目コード | Q23: 記 録 | R23: 4×100mR | T23: 男子種目 | U23: 男子種目コード | V23: 種別
A24: 例 | B24: 愛媛 | C24: 愛媛陸協 | D24: 380000 | E24: 1234 | F24: 松山 次郎 | G24: ﾏﾂﾔﾏ ｼﾞﾛｳ | H24: 3 | I24: 100m | J24: =VLOOKUP(I24,$T$23:$X$59,2,FALSE) -> #N/A | K24: 0001281 | L24: 走幅跳 | M24: =VLOOKUP(L24,$T$23:$U$36,2,FALSE) -> #N/A | N24: 00455 | O24: 一般円盤投 | P24: =VLOOKUP(O24,$T$24:$U$60,2,FALSE) -> 08610 | Q24: 03564 | R24: ○ | T24: 一般高校100m① | U24: 00200 | V24: 一般・高校① | W24: 00
A25: 1 | D25: =IFERROR(VLOOKUP(C25,'所属コード '!$T$2:$U$655,2,FALSE),"") | J25: =VLOOKUP(I25,$T$23:$U$60,2,FALSE) -> #N/A | M25: =VLOOKUP(L25,$T$23:$U$60,2,FALSE) -> #N/A | P25: =VLOOKUP(O25,$T$23:$U$60,2,FALSE) -> #N/A | T25: 一般高校100m② | U25: 00250 | V25: 一般・高校② | W25: 50
A26: 2 | D26: =IFERROR(VLOOKUP(C26,'所属コード '!$T$2:$U$655,2,FALSE),"") | J26: =VLOOKUP(I26,$T$23:$U$60,2,FALSE) -> #N/A | M26: =VLOOKUP(L26,$T$23:$U$60,2,FALSE) -> #N/A | P26: =VLOOKUP(O26,$T$23:$U$60,2,FALSE) -> #N/A | T26: 一般高校1500m | U26: 00800 | V26: 一般 | W26: 10
A27: 3 | D27: =IFERROR(VLOOKUP(C27,'所属コード '!$T$2:$U$655,2,FALSE),"") | J27: =VLOOKUP(I27,$T$23:$U$60,2,FALSE) -> #N/A | M27: =VLOOKUP(L27,$T$23:$U$60,2,FALSE) -> #N/A | P27: =VLOOKUP(O27,$T$23:$U$60,2,FALSE) -> #N/A | T27: 一般高校走高跳 | U27: 07100 | V27: 高校 | W27: 20
A28: 4 | D28: =IFERROR(VLOOKUP(C28,'所属コード '!$T$2:$U$655,2,FALSE),"") | J28: =VLOOKUP(I28,$T$23:$U$60,2,FALSE) -> #N/A | M28: =VLOOKUP(L28,$T$23:$U$60,2,FALSE) -> #N/A | P28: =VLOOKUP(O28,$T$23:$U$60,2,FALSE) -> #N/A | T28: 一般高校走幅跳 | U28: 07300 | V28: 中学 | W28: 30
A29: 5 | D29: =IFERROR(VLOOKUP(C29,'所属コード '!$T$2:$U$655,2,FALSE),"") | J29: =VLOOKUP(I29,$T$23:$U$60,2,FALSE) -> #N/A | M29: =VLOOKUP(L29,$T$23:$U$60,2,FALSE) -> #N/A | P29: =VLOOKUP(O29,$T$23:$U$60,2,FALSE) -> #N/A | T29: 一般砲丸投 | U29: 08110 | V29: 中学② | W29: 60
A30: 6 | D30: =IFERROR(VLOOKUP(C30,'所属コード '!$T$2:$U$655,2,FALSE),"") | J30: =VLOOKUP(I30,$T$23:$U$60,2,FALSE) -> #N/A | M30: =VLOOKUP(L30,$T$23:$U$60,2,FALSE) -> #N/A | P30: =VLOOKUP(O30,$T$23:$U$60,2,FALSE) -> #N/A | T30: 一般円盤投 | U30: 08610 | V30: 中学1年 | W30: 31
A31: 7 | D31: =IFERROR(VLOOKUP(C31,'所属コード '!$T$2:$U$655,2,FALSE),"") | J31: =VLOOKUP(I31,$T$23:$U$60,2,FALSE) -> #N/A | M31: =VLOOKUP(L31,$T$23:$U$60,2,FALSE) -> #N/A | P31: =VLOOKUP(O31,$T$23:$U$60,2,FALSE) -> #N/A | T31: 一般ハンマー投げ | U31: 08910 | V31: 中学2年 | W31: 32
A32: 8 | D32: =IFERROR(VLOOKUP(C32,'所属コード '!$T$2:$U$655,2,FALSE),"") | J32: =VLOOKUP(I32,$T$23:$U$60,2,FALSE) -> #N/A | M32: =VLOOKUP(L32,$T$23:$U$60,2,FALSE) -> #N/A | P32: =VLOOKUP(O32,$T$23:$U$60,2,FALSE) -> #N/A | T32: 一般高校やり投げ | U32: 09200 | V32: 中学3年 | W32: 33
A33: 9 | D33: =IFERROR(VLOOKUP(C33,'所属コード '!$T$2:$U$655,2,FALSE),"") | J33: =VLOOKUP(I33,$T$23:$U$60,2,FALSE) -> #N/A | M33: =VLOOKUP(L33,$T$23:$U$60,2,FALSE) -> #N/A | P33: =VLOOKUP(O33,$T$23:$U$60,2,FALSE) -> #N/A | T33: 高校砲丸投 | U33: 08220 | V33: 小学 | W33: 40
A34: 10 | D34: =IFERROR(VLOOKUP(C34,'所属コード '!$T$2:$U$655,2,FALSE),"") | J34: =VLOOKUP(I34,$T$23:$U$60,2,FALSE) -> #N/A | M34: =VLOOKUP(L34,$T$23:$U$60,2,FALSE) -> #N/A | P34: =VLOOKUP(O34,$T$23:$U$60,2,FALSE) -> #N/A | T34: 高校円盤投 | U34: 08720 | V34: 小学1年 | W34: 41
A35: 11 | D35: =IFERROR(VLOOKUP(C35,'所属コード '!$T$2:$U$655,2,FALSE),"") | J35: =VLOOKUP(I35,$T$23:$U$60,2,FALSE) -> #N/A | M35: =VLOOKUP(L35,$T$23:$U$60,2,FALSE) -> #N/A | P35: =VLOOKUP(O35,$T$23:$U$60,2,FALSE) -> #N/A | T35: 高校ハンマー投 | U35: 09120 | V35: 小学2年 | W35: 42
A36: 12 | D36: =IFERROR(VLOOKUP(C36,'所属コード '!$T$2:$U$655,2,FALSE),"") | J36: =VLOOKUP(I36,$T$23:$U$60,2,FALSE) -> #N/A | M36: =VLOOKUP(L36,$T$23:$U$60,2,FALSE) -> #N/A | P36: =VLOOKUP(O36,$T$23:$U$60,2,FALSE) -> #N/A | T36: 中学100ｍ① | U36: 00230 | V36: 小学3年 | W36: 43
A37: 13 | D37: =IFERROR(VLOOKUP(C37,'所属コード '!$T$2:$U$655,2,FALSE),"") | J37: =VLOOKUP(I37,$T$23:$U$60,2,FALSE) -> #N/A | M37: =VLOOKUP(L37,$T$23:$U$60,2,FALSE) -> #N/A | P37: =VLOOKUP(O37,$T$23:$U$60,2,FALSE) -> #N/A | T37: 中学100ｍ② | U37: 00260 | V37: 小学4年 | W37: 44
A38: 14 | D38: =IFERROR(VLOOKUP(C38,'所属コード '!$T$2:$U$655,2,FALSE),"") | J38: =VLOOKUP(I38,$T$23:$U$60,2,FALSE) -> #N/A | M38: =VLOOKUP(L38,$T$23:$U$60,2,FALSE) -> #N/A | P38: =VLOOKUP(O38,$T$23:$U$60,2,FALSE) -> #N/A | T38: 中学1500ｍ | U38: 00830 | V38: 小学5年 | W38: 45
A39: 15 | D39: =IFERROR(VLOOKUP(C39,'所属コード '!$T$2:$U$655,2,FALSE),"") | J39: =VLOOKUP(I39,$T$23:$U$60,2,FALSE) -> #N/A | M39: =VLOOKUP(L39,$T$23:$U$60,2,FALSE) -> #N/A | P39: =VLOOKUP(O39,$T$23:$U$60,2,FALSE) -> #N/A | T39: 中学走高跳 | U39: 07130 | V39: 小学6年 | W39: 46
A40: 16 | D40: =IFERROR(VLOOKUP(C40,'所属コード '!$T$2:$U$655,2,FALSE),"") | J40: =VLOOKUP(I40,$T$23:$U$60,2,FALSE) -> #N/A | M40: =VLOOKUP(L40,$T$23:$U$60,2,FALSE) -> #N/A | P40: =VLOOKUP(O40,$T$23:$U$60,2,FALSE) -> #N/A | T40: 中学走幅跳 | U40: 07330
A41: 17 | D41: =IFERROR(VLOOKUP(C41,'所属コード '!$T$2:$U$655,2,FALSE),"") | J41: =VLOOKUP(I41,$T$23:$U$60,2,FALSE) -> #N/A | M41: =VLOOKUP(L41,$T$23:$U$60,2,FALSE) -> #N/A | P41: =VLOOKUP(O41,$T$23:$U$60,2,FALSE) -> #N/A | T41: 中学砲丸投 | U41: 08330
A42: 18 | D42: =IFERROR(VLOOKUP(C42,'所属コード '!$T$2:$U$655,2,FALSE),"") | J42: =VLOOKUP(I42,$T$23:$U$60,2,FALSE) -> #N/A | M42: =VLOOKUP(L42,$T$23:$U$60,2,FALSE) -> #N/A | P42: =VLOOKUP(O42,$T$23:$U$60,2,FALSE) -> #N/A | T42: 中学円盤投 | U42: 09630
A43: 19 | D43: =IFERROR(VLOOKUP(C43,'所属コード '!$T$2:$U$655,2,FALSE),"") | J43: =VLOOKUP(I43,$T$23:$U$60,2,FALSE) -> #N/A | M43: =VLOOKUP(L43,$T$23:$U$60,2,FALSE) -> #N/A | P43: =VLOOKUP(O43,$T$23:$U$60,2,FALSE) -> #N/A | T43: 小学1年100ｍ | U43: 00241
A44: 20 | D44: =IFERROR(VLOOKUP(C44,'所属コード '!$T$2:$U$655,2,FALSE),"") | J44: =VLOOKUP(I44,$T$23:$U$60,2,FALSE) -> #N/A | M44: =VLOOKUP(L44,$T$23:$U$60,2,FALSE) -> #N/A | P44: =VLOOKUP(O44,$T$23:$U$60,2,FALSE) -> #N/A | T44: 小学2年100ｍ | U44: 00242
A45: 21 | D45: =IFERROR(VLOOKUP(C45,'所属コード '!$T$2:$U$655,2,FALSE),"") | J45: =VLOOKUP(I45,$T$23:$U$60,2,FALSE) -> #N/A | M45: =VLOOKUP(L45,$T$23:$U$60,2,FALSE) -> #N/A | P45: =VLOOKUP(O45,$T$23:$U$60,2,FALSE) -> #N/A | T45: 小学3年100ｍ | U45: 00243
A46: 22 | D46: =IFERROR(VLOOKUP(C46,'所属コード '!$T$2:$U$655,2,FALSE),"") | J46: =VLOOKUP(I46,$T$23:$U$60,2,FALSE) -> #N/A | M46: =VLOOKUP(L46,$T$23:$U$60,2,FALSE) -> #N/A | P46: =VLOOKUP(O46,$T$23:$U$60,2,FALSE) -> #N/A | T46: 小学4年100ｍ | U46: 00244
A47: 23 | D47: =IFERROR(VLOOKUP(C47,'所属コード '!$T$2:$U$655,2,FALSE),"") | J47: =VLOOKUP(I47,$T$23:$U$60,2,FALSE) -> #N/A | M47: =VLOOKUP(L47,$T$23:$U$60,2,FALSE) -> #N/A | P47: =VLOOKUP(O47,$T$23:$U$60,2,FALSE) -> #N/A | T47: 小学5年100ｍ | U47: 00245
A48: 24 | D48: =IFERROR(VLOOKUP(C48,'所属コード '!$T$2:$U$655,2,FALSE),"") | J48: =VLOOKUP(I48,$T$23:$U$60,2,FALSE) -> #N/A | M48: =VLOOKUP(L48,$T$23:$U$60,2,FALSE) -> #N/A | P48: =VLOOKUP(O48,$T$23:$U$60,2,FALSE) -> #N/A | T48: 小学6年100ｍ | U48: 00246
A49: 25 | D49: =IFERROR(VLOOKUP(C49,'所属コード '!$T$2:$U$655,2,FALSE),"") | J49: =VLOOKUP(I49,$T$23:$U$60,2,FALSE) -> #N/A | M49: =VLOOKUP(L49,$T$23:$U$60,2,FALSE) -> #N/A | P49: =VLOOKUP(O49,$T$23:$U$60,2,FALSE) -> #N/A | T49: 小学4年1000ｍ | U49: 00744
A50: 26 | D50: =IFERROR(VLOOKUP(C50,'所属コード '!$T$2:$U$655,2,FALSE),"") | J50: =VLOOKUP(I50,$T$23:$U$60,2,FALSE) -> #N/A | M50: =VLOOKUP(L50,$T$23:$U$60,2,FALSE) -> #N/A | P50: =VLOOKUP(O50,$T$23:$U$60,2,FALSE) -> #N/A | T50: 小学5年1000ｍ | U50: 00745
A51: 27 | D51: =IFERROR(VLOOKUP(C51,'所属コード '!$T$2:$U$655,2,FALSE),"") | J51: =VLOOKUP(I51,$T$23:$U$60,2,FALSE) -> #N/A | M51: =VLOOKUP(L51,$T$23:$U$60,2,FALSE) -> #N/A | P51: =VLOOKUP(O51,$T$23:$U$60,2,FALSE) -> #N/A | T51: 小学6年1000ｍ | U51: 00746
... A54: 30 | D54: =IFERROR(VLOOKUP(C54,'所属コード '!$T$2:$U$655,2,FALSE),"") | J54: =VLOOKUP(I54,$T$23:$U$60,2,FALSE) -> #N/A | M54: =VLOOKUP(L54,$T$23:$U$60,2,FALSE) -> #N/A | P54: =VLOOKUP(O54,$T$23:$U$60,2,FALSE) -> #N/A | T54: 小学6年走高跳 | U54: 07146
T55: 小学4年走幅跳 | U55: 07344
T56: 小学5年走幅跳 | U56: 07345
T57: 小学6年走幅跳 | U57: 07346
T58: 小学4年ｼﾞｬﾍﾞﾎﾞｰﾙ投げ | U58: 49444
T59: 小学5年ｼﾞｬﾍﾞﾎﾞｰﾙ投げ | U59: 49445
T60: 小学6年ｼﾞｬﾍﾞﾎﾞｰﾙ投げ | U60: 49446

Sheet 一覧表女子
A1: 競技会申込一覧及び出場認知書
C4: 愛媛陸上競技協会 様
D6: 大会名 | F6: 第３回新居浜記録会 | T6: 第３回新居浜記録会
D8: 所 属 | I8: 所 属 長
D9: 住 所 | E9: 〒 | I9: 電 話
D11: 引 率 者 | I11: 引率連絡先
D12: 審判協力 | F12: 審判協力者 | K12: 審判部署 | O12: ←審判に協力いただける方は記入をお願いします
D13: 審判協力 | F13: 審判協力者 | K13: 審判部署 | O13: ※10名以上選手がエントリーする団体は必ず1名以上記入お願いします
E15: 女 子 | G15: 参加種目数(必要数) | I15: 金 額 | T15: 〇
F16: 個人種目 | L16: 円 | T16: ×
F17: リレー | L17: 円
F18: プログラム | H18: 部 | L18: 円
F19: 合計金額 | I19: =SUM(I16:K18) -> 0 | L19: 円
D22: 所属コードより | E22: 半角 | F22: 全角 | G22: 半角 | I22: メニューより | K22: 半角 | L22: メニューより | N22: 半角 | O22: メニューより | Q22: 半角
B23: 登録陸協 | C23: 所属名 | D23: 所属コード | E23: ﾅﾝﾊﾞｰ | F23: 氏 名 | G23: ﾌﾘｶﾞﾅ | H23: 学年 | I23: 種目１ | J23: 種目コード | K23: 記 録 | L23: 種目２ | M23: 種目コード | N23: 記 録 | O23: 種目3 | P23: 種目コード | Q23: 記 録 | R23: 4×100mR | T23: 女子種目 | U23: 女子種目コード | V23: 種別
A24: 例 | B24: 愛媛 | C24: 愛媛陸協 | D24: 380000 | E24: 1234 | F24: 松山 次郎 | G24: ﾏﾂﾔﾏ ｼﾞﾛｳ | H24: 3 | I24: 100m | J24: =VLOOKUP(I24,$T$23:$U$34,2,FALSE) -> #N/A | K24: 0001281 | L24: 走幅跳 | M24: =VLOOKUP(L24,$T$23:$U$34,2,FALSE) -> #N/A | N24: 00455 | O24: 円盤投 | P24: =VLOOKUP(O24,$T$24:$U$57,2,FALSE) -> #N/A | Q24: 03564 | R24: ○ | T24: 一般高校100m① | U24: 00200 | V24: 一般・高校① | W24: 00
A25: 1 | D25: =IFERROR(VLOOKUP(C25,'所属コード '!$T$2:$U$655,2,FALSE),"") | J25: =VLOOKUP(I25,$T$23:$U$57,2,FALSE) -> #N/A | M25: =VLOOKUP(L25,$T$23:$U$57,2,FALSE) -> #N/A | P25: =VLOOKUP(O25,$T$23:$U$57,2,FALSE) -> #N/A | T25: 一般高校100m② | U25: 00250 | V25: 一般・高校② | W25: 50
A26: 2 | D26: =IFERROR(VLOOKUP(C26,'所属コード '!$T$2:$U$655,2,FALSE),"") | J26: =VLOOKUP(I26,$T$23:$U$57,2,FALSE) -> #N/A | M26: =VLOOKUP(L26,$T$23:$U$57,2,FALSE) -> #N/A | P26: =VLOOKUP(O26,$T$23:$U$57,2,FALSE) -> #N/A | T26: 一般高校1500m | U26: 00800 | V26: 一般 | W26: 10
A27: 3 | D27: =IFERROR(VLOOKUP(C27,'所属コード '!$T$2:$U$655,2,FALSE),"") | J27: =VLOOKUP(I27,$T$23:$U$57,2,FALSE) -> #N/A | M27: =VLOOKUP(L27,$T$23:$U$57,2,FALSE) -> #N/A | P27: =VLOOKUP(O27,$T$23:$U$57,2,FALSE) -> #N/A | T27: 一般高校走高跳 | U27: 07100 | V27: 高校 | W27: 20
A28: 4 | D28: =IFERROR(VLOOKUP(C28,'所属コード '!$T$2:$U$655,2,FALSE),"") | J28: =VLOOKUP(I28,$T$23:$U$57,2,FALSE) -> #N/A | M28: =VLOOKUP(L28,$T$23:$U$57,2,FALSE) -> #N/A | P28: =VLOOKUP(O28,$T$23:$U$57,2,FALSE) -> #N/A | T28: 一般高校走幅跳 | U28: 07300 | V28: 中学 | W28: 30
A29: 5 | D29: =IFERROR(VLOOKUP(C29,'所属コード '!$T$2:$U$655,2,FALSE),"") | J29: =VLOOKUP(I29,$T$23:$U$57,2,FALSE) -> #N/A | M29: =VLOOKUP(L29,$T$23:$U$57,2,FALSE) -> #N/A | P29: =VLOOKUP(O29,$T$23:$U$57,2,FALSE) -> #N/A | T29: 一般高校砲丸投 | U29: 08400 | V29: 中学② | W29: 60
A30: 6 | D30: =IFERROR(VLOOKUP(C30,'所属コード '!$T$2:$U$655,2,FALSE),"") | J30: =VLOOKUP(I30,$T$23:$U$57,2,FALSE) -> #N/A | M30: =VLOOKUP(L30,$T$23:$U$57,2,FALSE) -> #N/A | P30: =VLOOKUP(O30,$T$23:$U$57,2,FALSE) -> #N/A | T30: 一般高校円盤投 | U30: 08800 | V30: 中学1年 | W30: 31
A31: 7 | D31: =IFERROR(VLOOKUP(C31,'所属コード '!$T$2:$U$655,2,FALSE),"") | J31: =VLOOKUP(I31,$T$23:$U$57,2,FALSE) -> #N/A | M31: =VLOOKUP(L31,$T$23:$U$57,2,FALSE) -> #N/A | P31: =VLOOKUP(O31,$T$23:$U$57,2,FALSE) -> #N/A | T31: 一般高校ハンマー投げ | U31: 09400 | V31: 中学2年 | W31: 32
A32: 8 | D32: =IFERROR(VLOOKUP(C32,'所属コード '!$T$2:$U$655,2,FALSE),"") | J32: =VLOOKUP(I32,$T$23:$U$57,2,FALSE) -> #N/A | M32: =VLOOKUP(L32,$T$23:$U$57,2,FALSE) -> #N/A | P32: =VLOOKUP(O32,$T$23:$U$57,2,FALSE) -> #N/A | T32: 一般高校やり投げ | U32: 09300 | V32: 中学3年 | W32: 33
A33: 9 | D33: =IFERROR(VLOOKUP(C33,'所属コード '!$T$2:$U$655,2,FALSE),"") | J33: =VLOOKUP(I33,$T$23:$U$57,2,FALSE) -> #N/A | M33: =VLOOKUP(L33,$T$23:$U$57,2,FALSE) -> #N/A | P33: =VLOOKUP(O33,$T$23:$U$57,2,FALSE) -> #N/A | T33: 中学100ｍ① | U33: 00230 | V33: 小学 | W33: 40
A34: 10 | D34: =IFERROR(VLOOKUP(C34,'所属コード '!$T$2:$U$655,2,FALSE),"") | J34: =VLOOKUP(I34,$T$23:$U$57,2,FALSE) -> #N/A | M34: =VLOOKUP(L34,$T$23:$U$57,2,FALSE) -> #N/A | P34: =VLOOKUP(O34,$T$23:$U$57,2,FALSE) -> #N/A | T34: 中学100ｍ② | U34: 00260 | V34: 小学1年 | W34: 41
A35: 11 | D35: =IFERROR(VLOOKUP(C35,'所属コード '!$T$2:$U$655,2,FALSE),"") | J35: =VLOOKUP(I35,$T$23:$U$57,2,FALSE) -> #N/A | M35: =VLOOKUP(L35,$T$23:$U$57,2,FALSE) -> #N/A | P35: =VLOOKUP(O35,$T$23:$U$57,2,FALSE) -> #N/A | T35: 中学1500ｍ | U35: 00830 | V35: 小学2年 | W35: 42
A36: 12 | D36: =IFERROR(VLOOKUP(C36,'所属コード '!$T$2:$U$655,2,FALSE),"") | J36: =VLOOKUP(I36,$T$23:$U$57,2,FALSE) -> #N/A | M36: =VLOOKUP(L36,$T$23:$U$57,2,FALSE) -> #N/A | P36: =VLOOKUP(O36,$T$23:$U$57,2,FALSE) -> #N/A | T36: 中学走高跳 | U36: 07130 | V36: 小学3年 | W36: 43
A37: 13 | D37: =IFERROR(VLOOKUP(C37,'所属コード '!$T$2:$U$655,2,FALSE),"") | J37: =VLOOKUP(I37,$T$23:$U$57,2,FALSE) -> #N/A | M37: =VLOOKUP(L37,$T$23:$U$57,2,FALSE) -> #N/A | P37: =VLOOKUP(O37,$T$23:$U$57,2,FALSE) -> #N/A | T37: 中学走幅跳 | U37: 07330 | V37: 小学4年 | W37: 44
A38: 14 | D38: =IFERROR(VLOOKUP(C38,'所属コード '!$T$2:$U$655,2,FALSE),"") | J38: =VLOOKUP(I38,$T$23:$U$57,2,FALSE) -> #N/A | M38: =VLOOKUP(L38,$T$23:$U$57,2,FALSE) -> #N/A | P38: =VLOOKUP(O38,$T$23:$U$57,2,FALSE) -> #N/A | T38: 中学砲丸投 | U38: 08530 | V38: 小学5年 | W38: 45
A39: 15 | D39: =IFERROR(VLOOKUP(C39,'所属コード '!$T$2:$U$655,2,FALSE),"") | J39: =VLOOKUP(I39,$T$23:$U$57,2,FALSE) -> #N/A | M39: =VLOOKUP(L39,$T$23:$U$57,2,FALSE) -> #N/A | P39: =VLOOKUP(O39,$T$23:$U$57,2,FALSE) -> #N/A | T39: 中学円盤投 | U39: 08830 | V39: 小学6年 | W39: 46
A40: 16 | D40: =IFERROR(VLOOKUP(C40,'所属コード '!$T$2:$U$655,2,FALSE),"") | J40: =VLOOKUP(I40,$T$23:$U$57,2,FALSE) -> #N/A | M40: =VLOOKUP(L40,$T$23:$U$57,2,FALSE) -> #N/A | P40: =VLOOKUP(O40,$T$23:$U$57,2,FALSE) -> #N/A | T40: 小学1年100ｍ | U40: 00241
A41: 17 | D41: =IFERROR(VLOOKUP(C41,'所属コード '!$T$2:$U$655,2,FALSE),"") | J41: =VLOOKUP(I41,$T$23:$U$57,2,FALSE) -> #N/A | M41: =VLOOKUP(L41,$T$23:$U$57,2,FALSE) -> #N/A | P41: =VLOOKUP(O41,$T$23:$U$57,2,FALSE) -> #N/A | T41: 小学2年100ｍ | U41: 00242
A42: 18 | D42: =IFERROR(VLOOKUP(C42,'所属コード '!$T$2:$U$655,2,FALSE),"") | J42: =VLOOKUP(I42,$T$23:$U$57,2,FALSE) -> #N/A | M42: =VLOOKUP(L42,$T$23:$U$57,2,FALSE) -> #N/A | P42: =VLOOKUP(O42,$T$23:$U$57,2,FALSE) -> #N/A | T42: 小学3年100ｍ | U42: 00243
A43: 19 | D43: =IFERROR(VLOOKUP(C43,'所属コード '!$T$2:$U$655,2,FALSE),"") | J43: =VLOOKUP(I43,$T$23:$U$57,2,FALSE) -> #N/A | M43: =VLOOKUP(L43,$T$23:$U$57,2,FALSE) -> #N/A | P43: =VLOOKUP(O43,$T$23:$U$57,2,FALSE) -> #N/A | T43: 小学4年100ｍ | U43: 00244
A44: 20 | D44: =IFERROR(VLOOKUP(C44,'所属コード '!$T$2:$U$655,2,FALSE),"") | J44: =VLOOKUP(I44,$T$23:$U$57,2,FALSE) -> #N/A | M44: =VLOOKUP(L44,$T$23:$U$57,2,FALSE) -> #N/A | P44: =VLOOKUP(O44,$T$23:$U$57,2,FALSE) -> #N/A | T44: 小学5年100ｍ | U44: 00245
A45: 21 | D45: =IFERROR(VLOOKUP(C45,'所属コード '!$T$2:$U$655,2,FALSE),"") | J45: =VLOOKUP(I45,$T$23:$U$57,2,FALSE) -> #N/A | M45: =VLOOKUP(L45,$T$23:$U$57,2,FALSE) -> #N/A | P45: =VLOOKUP(O45,$T$23:$U$57,2,FALSE) -> #N/A | T45: 小学6年100ｍ | U45: 00246
A46: 22 | D46: =IFERROR(VLOOKUP(C46,'所属コード '!$T$2:$U$655,2,FALSE),"") | J46: =VLOOKUP(I46,$T$23:$U$57,2,FALSE) -> #N/A | M46: =VLOOKUP(L46,$T$23:$U$57,2,FALSE) -> #N/A | P46: =VLOOKUP(O46,$T$23:$U$57,2,FALSE) -> #N/A | T46: 小学4年1000ｍ | U46: 00744
A47: 23 | D47: =IFERROR(VLOOKUP(C47,'所属コード '!$T$2:$U$655,2,FALSE),"") | J47: =VLOOKUP(I47,$T$23:$U$57,2,FALSE) -> #N/A | M47: =VLOOKUP(L47,$T$23:$U$57,2,FALSE) -> #N/A | P47: =VLOOKUP(O47,$T$23:$U$57,2,FALSE) -> #N/A | T47: 小学5年1000ｍ | U47: 00745
A48: 24 | D48: =IFERROR(VLOOKUP(C48,'所属コード '!$T$2:$U$655,2,FALSE),"") | J48: =VLOOKUP(I48,$T$23:$U$57,2,FALSE) -> #N/A | M48: =VLOOKUP(L48,$T$23:$U$57,2,FALSE) -> #N/A | P48: =VLOOKUP(O48,$T$23:$U$57,2,FALSE) -> #N/A | T48: 小学6年1000ｍ | U48: 00746
A49: 25 | D49: =IFERROR(VLOOKUP(C49,'所属コード '!$T$2:$U$655,2,FALSE),"") | J49: =VLOOKUP(I49,$T$23:$U$57,2,FALSE) -> #N/A | M49: =VLOOKUP(L49,$T$23:$U$57,2,FALSE) -> #N/A | P49: =VLOOKUP(O49,$T$23:$U$57,2,FALSE) -> #N/A | T49: 小学4年走高跳 | U49: 07144
A50: 26 | D50: =IFERROR(VLOOKUP(C50,'所属コード '!$T$2:$U$655,2,FALSE),"") | J50: =VLOOKUP(I50,$T$23:$U$57,2,FALSE) -> #N/A | M50: =VLOOKUP(L50,$T$23:$U$57,2,FALSE) -> #N/A | P50: =VLOOKUP(O50,$T$23:$U$57,2,FALSE) -> #N/A | T50: 小学5年走高跳 | U50: 07145
A51: 27 | D51: =IFERROR(VLOOKUP(C51,'所属コード '!$T$2:$U$655,2,FALSE),"") | J51: =VLOOKUP(I51,$T$23:$U$57,2,FALSE) -> #N/A | M51: =VLOOKUP(L51,$T$23:$U$57,2,FALSE) -> #N/A | P51: =VLOOKUP(O51,$T$23:$U$57,2,FALSE) -> #N/A | T51: 小学6年走高跳 | U51: 07146
... A54: 30 | D54: =IFERROR(VLOOKUP(C54,'所属コード '!$T$2:$U$655,2,FALSE),"") | J54: =VLOOKUP(I54,$T$23:$U$57,2,FALSE) -> #N/A | M54: =VLOOKUP(L54,$T$23:$U$57,2,FALSE) -> #N/A | P54: =VLOOKUP(O54,$T$23:$U$57,2,FALSE) -> #N/A | T54: 小学6年走幅跳 | U54: 07346
T55: 小学4年ｼﾞｬﾍﾞﾎﾞｰﾙ投げ | U55: 49444
T56: 小学5年ｼﾞｬﾍﾞﾎﾞｰﾙ投げ | U56: 49445
T57: 小学6年ｼﾞｬﾍﾞﾎﾞｰﾙ投げ | U57: 49446

Sheet リレーエントリー
A2: リレーメンバーシート
B4: No | C4: 校名略称 | D4: ﾌﾘｶﾞﾅ | E4: 所属コード | F4: 申込記録 | G4: 1人目 | H4: 2人目 | I4: 3人目 | J4: 4人目 | K4: 5人目 | L4: 6人目
A5: 記 入 例 | B5: 1 | C5: 西条東 | D5: ｻｲｼﾞｮｳﾋｶﾞｼ | E5: 386008 | F5: 04455 | G5: 新居浜 一郎 | H5: 新居浜 二郎 | I5: 新居浜 三郎 | J5: 新居浜 四郎
A6: ４×１００ｍR
A7: ４×１００ｍR
A8: ４×１００ｍR
A9: ４×１００ｍR

Sheet 所属コード 
A1: 一般 | D1: 大学 | G1: 高校 | J1: 中学 | M1: 小学 | P1: 県外
A2: 380000 | B2: 愛媛陸協 | C2: ｴﾋﾒﾘｸｼﾞｮｳｷｮｳｷﾞｷｮｳｶｲ | D2: 490001 | E2: 北海道大 | F2: ﾎｯｶｲﾄﾞｳﾀﾞｲ | G2: 383001 | H2: 愛媛大附属 | I2: ｴﾋﾒﾀﾞｲﾌｿﾞｸｺｳ | J2: 385000 | K2: 愛媛ジュニア | L2: ｴﾋﾒｼﾞｭﾆｱ | M2: 388001 | N2: 桑の実クラブ | O2: ｸﾜﾉﾐｸﾗﾌﾞ | P2: 40000 | Q2: 宮城陸協 | S2: 380000 | T2: 愛媛陸協 | U2: 380000
A3: 380001 | B3: クラレ西条 | C3: ｸﾗﾚｻｲｼﾞｮｳ | D3: 490010 | E3: 東北大 | F3: ﾄｳﾎｳﾀﾞｲ | G3: 383091 | H3: 新居浜高専 | I3: ﾆｲﾊﾏｺｳｷﾞｮｳｺｳﾄｳｾﾝﾓﾝｶﾞｯｺｳ | J3: 385001 | K3: 愛媛大附属 | L3: ｴﾋﾒﾀﾞｲﾌｿﾞｸ | M3: 388002 | N3: 荏原陸上クラブ | O3: ｴﾊﾞﾗﾘｸｼﾞｮｳｸﾗﾌﾞ | P3: 70001 | Q3: 県南陸協 | S3: 380001 | T3: クラレ西条 | U3: 380001
A4: 380003 | B4: 長浜体協 | C4: ﾅｶﾞﾊﾏﾀｲｷｮｳ | D4: 490016 | E4: 筑波大 | F4: ﾂｸﾊﾞﾀﾞｲ | G4: 383092 | H4: 弓削商船 | I4: ﾕｹﾞｼｮｳｾﾝｺｳｾﾝ | J4: 385002 | K4: 拓南 | L4: ﾀｸﾅﾝ | M4: 388003 | N4: 波っ子ﾗﾝﾅｰｽﾞ | O4: ﾅﾐｯｺﾗﾝﾅｰｽﾞ | P4: 130000 | Q4: 東京陸協 | S4: 380003 | T4: 長浜体協 | U4: 380003
A5: 380005 | B5: 明浜体協 | C5: ｱｹﾊﾏﾀｲｲｸｷｮｳｶｲ | D5: 490024 | E5: 東京学芸大 | F5: ﾄｳｷｮｳｶﾞｸｹﾞｲﾀﾞｲ | G5: 383101 | H5: 川之江 | I5: ｶﾜﾉｴ | J5: 385003 | K5: 雄新 | L5: ﾕｳｼﾝ | M5: 388004 | N5: 岩松クラブ | O5: ｲﾜﾏﾂｸﾗﾌﾞ | P5: 140001 | Q5: 相模原市陸協 | S5: 380005 | T5: 明浜体協 | U5: 380005
A6: 380006 | B6: 八幡浜体協 | C6: ﾔﾜﾀﾊﾏﾀｲｲｸｷｮｳｶｲ | D6: 490025 | E6: 一橋大 | F6: ﾋﾄﾂﾊﾞｼﾀﾞｲ | G6: 383102 | H6: 三島 | I6: ﾐｼﾏ | J6: 385004 | K6: 勝山 | L6: ｶﾂﾔﾏ | M6: 388005 | N6: 宇和島陸上クラブ | O6: ｳﾜｼﾞﾏﾘｸｼﾞｮｳｸﾗﾌﾞ | P6: 140002 | Q6: 東海AC | S6: 380006 | T6: 八幡浜体協 | U6: 380006
A7: 380008 | B7: 吉田体協 | C7: ﾖｼﾀﾞﾁｮｳﾀｲｲｸｷｮｳｶｲ | D7: 490034 | E7: 横国大 | F7: ﾖｺﾊﾏｺｸﾀﾞｲ | G7: 383103 | H7: 土居 | I7: ﾄﾞｲ | J7: 385006 | K7: 松山南 | L7: ﾏﾂﾔﾏﾐﾅﾐ | M7: 388006 | N7: 宇和島T&F | O7: ｳﾜｼﾞﾏTｱﾝﾄﾞF | P7: 140003 | Q7: 平塚陸協 | S7: 380008 | T7: 吉田体協 | U7: 380008
A8: 380009 | B8: 一本松体協 | C8: ｲｯﾎﾟﾝﾏﾂﾀｲｲｸｷｮｳｶｲ | D8: 490051 | E8: 京都大 | F8: ｷｮｳﾄﾀﾞｲ | G8: 383104 | H8: 新居浜東 | I8: ﾆｲﾊﾏﾋｶﾞｼ | J8: 385007 | K8: 松山西 | L8: ﾏﾂﾔﾏﾆｼ | M8: 388007 | N8: 川之江T&Fクラブ | O8: ｶﾜﾉｴTｱﾝﾄﾞFｸﾗﾌﾞ | P8: 140004 | Q8: TEAM HAL | S8: 380009 | T8: 一本松体協 | U8: 380009
A9: 380014 | B9: 新居浜楽走会 | C9: ﾆｲﾊﾏﾗｸｿｳｶｲ | D9: 490053 | E9: 大阪教育大 | F9: ｵｵｻｶｷｮｳｲｸﾀﾞｲ | G9: 383105 | H9: 新居浜西 | I9: ﾆｲﾊﾏﾆｼ | J9: 385008 | K9: 道後 | L9: ﾄﾞｳｺﾞ | M9: 388008 | N9: ＶＩＶＩＤ | O9: VIVID | P9: 140005 | Q9: 東京ガスエコモ | S9: 380014 | T9: 新居浜楽走会 | U9: 380014
A10: 380019 | B10: 野村体協 | C10: ﾉﾑﾗﾀｲｲｸｷｮｳｶｲ | D10: 490058 | E10: 和歌山大 | F10: ﾜｶﾔﾏﾀﾞｲ | G10: 383106 | H10: 新居浜南 | I10: ﾆｲﾊﾏﾐﾅﾐ | J10: 385009 | K10: 鴨川 | L10: ｶﾓｶﾞﾜ | M10: 388009 | N10: 八幡浜ＡＣ | O10: ﾔﾜﾀﾊﾏｱｽﾘｰﾄｸﾗﾌﾞ | P10: 140006 | Q10: 座間市陸協 | S10: 380019 | T10: 野村体協 | U10: 380019
A11: 380020 | B11: 伊方体協 | C11: ｲﾀｶﾀｲｷｮｳ | D11: 490062 | E11: 広島大 | F11: ﾋﾛｼﾏﾀﾞｲ | G11: 383107 | H11: 新居浜工 | I11: ﾆｲﾊﾏｺｳｷﾞｮｳ | J11: 385010 | K11: 内宮 | L11: ｳﾁﾐﾔ | M11: 388010 | N11: 三瓶ｽﾎﾟｰﾂｸﾗﾌﾞ | O11: ﾐｶﾒｽﾎﾟｰﾂｸﾗﾌﾞ | P11: 180081 | Q11: ユティック | S11: 380020 | T11: 伊方体協 | U11: 380020
A12: 380021 | B12: 伊予市体協 | C12: ｲﾖｼﾀｲｲｸｷｮｳｶｲ | D12: 490064 | E12: 島根大 | F12: ｼﾏﾈﾀﾞｲ | G12: 383108 | H12: 西条 | I12: ｻｲｼﾞｮｳ | J12: 385011 | K12: 三津浜 | L12: ﾐﾂﾊﾏ | M12: 388011 | N12: 伊予AC | O12: ｲﾖAC | P12: 210001 | Q12: ｽｽﾞｷ浜松AC | S12: 380021 | T12: 伊予市体協 | U12: 380021
A13: 380022 | B13: 今治クラブ | C13: ｲﾏﾊﾞﾘｸﾗﾌﾞ | D13: 490066 | E13: 愛媛大 | F13: ｴﾋﾒﾀﾞｲ | G13: 383109 | H13: 西条農 | I13: ｻｲｼﾞｮｳﾉｳｷﾞｮｳ | J13: 385013 | K13: 垣生 | L13: ﾊﾌﾞ | M13: 388012 | N13: 大久ｽﾎﾟ少 | O13: ｵｵｸｽﾎﾟｰﾂｼｮｳﾈﾝﾀﾞﾝ | P13: 220000 | Q13: 愛知陸協 | S13: 380022 | T13: 今治クラブ | U13: 380022
... A75: 384033 | B75: 積水ﾊｳｽ | C75: ｾｷｽｲﾊｳｽ | D75: 496057 | E75: 秋田大 | F75: ｱｷﾀﾀﾞｲ | G75: 383504 | H75: 松山城南 | I75: ﾏﾂﾔﾏｼﾞｮｳﾅﾝ | J75: 385220 | K75: 三瓶 | L75: ﾐｶﾒ | M75: 388074 | N75: とべ陸上クラブ | O75: ﾄﾍﾞﾘｸｼﾞｮｳｸﾗﾌﾞ | P75: 370002 | Q75: RATTLE | S75: 384033 | T75: 積水ﾊｳｽ | U75: 384033
A76: 384034 | B76: 久万体協 | C76: ｸﾏﾀｲｷｮｳ | D76: 496058 | E76: 東京大 | F76: ﾄｳｷｮｳﾀﾞｲ | G76: 383505 | H76: 愛光 | I76: ｱｲｺｳ | J76: 385235 | K76: 宇和 | L76: ｳﾜ | M76: 388075 | N76: 土居T＆F | P76: 370003 | Q76: 大手前丸亀高 | S76: 384034 | T76: 久万体協 | U76: 384034
A77: 384036 | B77: 東予市陸協 | C77: ﾄｳﾖｼﾘｯｷｮｳ | D77: 496059 | E77: 国士舘大 | F77: ｺｸｼｶﾝﾀﾞｲ | G77: 383506 | H77: 松山聖陵 | I77: ﾏﾂﾔﾏｾｲﾘｮｳ | J77: 385236 | K77: 野村 | L77: ﾉﾑﾗ | M77: 388076 | N77: 吉海クラブ | P77: 370061 | Q77: ASPERITY | S77: 384036 | T77: 東予市陸協 | U77: 384036
A78: 384037 | B78: 芙蓉調査設計 | C78: ﾌﾖｳﾁｮｳｻｾｯｹｲ | D78: 496060 | E78: 大阪国際大 | F78: ｵｵｻｶｺｸｻｲﾀﾞｲ | G78: 383507 | H78: 松山東雲 | I78: ﾏﾂﾔﾏｼﾉﾉﾒ | J78: 385245 | K78: 吉田 | L78: ﾖｼﾀﾞ | M78: 388077 | N78: しまなみJAC | P78: 373124 | Q78: 高瀬高 | S78: 384037 | T78: 芙蓉調査設計 | U78: 384037
A79: 384038 | B79: 愛媛県庁 | C79: ｴﾋﾒｹﾝﾁｮｳ | D79: 496061 | E79: 甲南大 | F79: ｺｳﾅﾝｱﾀﾞｲ | G79: 383508 | H79: 聖ｶﾀﾘﾅ学園 | I79: ｾｲｶﾀﾘﾅｶﾞｸｴﾝ | J79: 385246 | K79: 三間 | L79: ﾐﾏ | M79: 388078 | N79: 宇和っ子AC | P79: 373126 | Q79: 観音寺一高 | S79: 384038 | T79: 愛媛県庁 | U79: 384038
A80: 384039 | B80: 松山市役所 | C80: ﾏﾂﾔﾏｼﾔｸｼｮ | D80: 496062 | E80: 福島大 | F80: ﾌｸｼﾏﾀﾞｲ | G80: 383509 | H80: 済美 | I80: ｻｲﾋﾞ | J80: 385248 | K80: 広見 | L80: ﾋﾛﾐ | P80: 375020 | Q80: 玉藻高 | S80: 384039 | T80: 松山市役所 | U80: 384039
A81: 384040 | B81: 西条農高教 | C81: ｻｲｼﾞｮｳﾉｳｺｳｷｮｳ | D81: 496063 | E81: 山梨学院大 | F81: ﾔﾏﾅｼｶﾞｸｲﾝﾀﾞｲ | G81: 383510 | H81: 帝京第五 | I81: ﾃｲｷｮｳﾀﾞｲｺﾞ | J81: 385249 | K81: 津島 | L81: ﾂｼﾏ | P81: 375076 | Q81: 三野津高 | S81: 384040 | T81: 西条農高教 | U81: 384040
A82: 384041 | B82: 伊予市体協 | C82: ｲﾖｼﾀｲｷｮｳ | D82: 496064 | E82: 平成国際大 | F82: ﾍｲｾｲｺｸｻｲﾀﾞｲ | G82: 383601 | H82: 川之江(定) | I82: ｶﾜﾉｴﾃｲｼﾞ | J82: 385250 | K82: 日吉 | L82: ﾋﾖｼ | P82: 370004 | Q82: 香川RT | S82: 384041 | T82: 伊予市体協 | U82: 384041
A83: 384071 | B83: 松野体協 | C83: ﾏﾂﾉﾀｲｷｮｳ | D83: 496065 | E83: 新潟医福大 | F83: ﾆｲｶﾞﾀｲﾘｮｳﾌｸｼﾀﾞｲ | G83: 383602 | H83: 新居浜西(定) | I83: ﾆｲﾊﾏﾆｼﾃｲｼﾞｾｲ | J83: 385256 | K83: 御荘 | L83: ﾐｼｮｳ | P83: 370005 | Q83: 四国学院大学AC | S83: 384071 | T83: 松野体協 | U83: 384071
A84: 384074 | B84: 運動公園 | C84: ｳﾝﾄﾞｳｺｳｴﾝ | D84: 496066 | E84: 京都教育大 | F84: ｷｮｳﾄｷｮｳｲｸﾀﾞｲ | G84: 383603 | H84: 西条(定) | I84: ｻｲｼﾞｮｳﾃｲｼﾞ | J84: 385257 | K84: 城辺 | L84: ｼﾞｮｳﾍﾝ | P84: 370006 | Q84: 四国学院クラブ | S84: 384074 | T84: 運動公園 | U84: 384074
A85: 384077 | B85: 青石中教 | C85: ｱｵｲｼﾁｭｳｷｮｳ | D85: 496067 | E85: 高崎経済大 | F85: ﾀｶｻｷｹｲｻﾞｲﾀﾞｲ | G85: 383604 | H85: 松山東(通) | I85: ﾏﾂﾔﾏﾋｶﾞｼﾂｳｼﾝ | J85: 385259 | K85: 福浦 | L85: ﾌｸｳﾗ | P85: 390005 | Q85: ＭＭＧ | S85: 384077 | T85: 青石中教 | U85: 384077
A86: 384082 | B86: 三島高教 | C86: ﾐｼﾏｺｳｷｮｳ | D86: 496068 | E86: 九州共立大 | F86: ｷｭｳｼｭｳｷｮｳﾘﾂﾀﾞｲ | G86: 383605 | H86: 松山南(定) | I86: ﾏﾂﾔﾏﾐﾅﾐﾃｲｼﾞ | J86: 385301 | K86: 保内 | L86: ﾎﾅｲ | P86: 390002 | Q86: 高知union | S86: 384082 | T86: 三島高教 | U86: 384082
A87: 384083 | B87: 日本放送協会 | C87: ﾆﾎﾝﾎｳｿｳｷｮｳｶｲ | D87: 496069 | E87: 同志社大 | F87: ﾄﾞｳｼｼｬﾀﾞｲ | G87: 383606 | H87: 松山工(定) | I87: ﾏﾂﾔﾏｺｳｷﾞｮｳﾃｲｼﾞ | J87: 385302 | K87: 中萩 | L87: ﾅｶﾊｷﾞ | P87: 390003 | Q87: 香長中 | S87: 384083 | T87: 日本放送協会 | U87: 384083
A88: 384084 | B88: 新居浜商高教 | C88: ﾆｲｼｮｳｷｮｳｲﾝ | D88: 496070 | E88: 上武大 | F88: ｼﾞｮｳﾌﾞﾀﾞｲ | G88: 383607 | H88: 八幡浜(定) | I88: ﾔﾜﾀﾊﾏﾃｲｼﾞ | J88: 385303 | K88: 大三島 | L88: ｵｵﾐｼﾏ | P88: 390004 | Q88: AMT陸上クラブ | S88: 384084 | T88: 新居浜商高教 | U88: 384084
A89: 384085 | B89: 愛短大職員 | C89: ｱｲﾀﾝﾀﾞｲｼｮｸｲﾝ | D89: 496071 | E89: 大東文化大 | F89: ﾀﾞｲﾄｳﾌﾞﾝｶﾀﾞｲ | G89: 383901 | H89: FC今治里山 | I89: FCｲﾏﾊﾞﾘｻﾄﾔﾏ | J89: 385304 | K89: 岡田 | L89: ｵｶﾀﾞ | P89: 390006 | Q89: まほろばクラブ南国 | S89: 384085 | T89: 愛短大職員 | U89: 384085
A90: 384086 | B90: 愛媛AAC | C90: ｴﾋﾒｴｰｴｰｼｰ | D90: 496072 | E90: 立命館大 | F90: ﾘﾂﾒｲｶﾝﾀﾞｲ | G90: 383903 | H90: 済美平成中等 | I90: ｻｲﾋﾞﾍｲｾｲﾁｭｳﾄｳｺｳ | J90: 385305 | K90: 松野 | L90: ﾏﾂﾉ | P90: 390007 | Q90: 鳶ヶ池中 | S90: 384086 | T90: 愛媛AAC | U90: 384086
A91: 384087 | B91: 松山AC | C91: ﾏﾂﾔﾏｴｰｼｰ | D91: 496073 | E91: 福山平成大 | F91: ﾌｸﾔﾏﾍｲｾｲﾀﾞｲ | G91: 383904 | H91: 新田青雲中等 | I91: ﾆｯﾀｾｲｳﾝﾁｭｳﾄｳｺｳ | J91: 385331 | K91: 新居浜東 | L91: ﾆｲﾊﾏﾋｶﾞｼ | P91: 390008 | Q91: 城東中 | S91: 384087 | T91: 松山AC | U91: 384087
A92: 384088 | B92: YONDENｸﾗﾌﾞ | C92: ﾖﾝﾃﾞﾝｸﾗﾌﾞ | D92: 496074 | E92: 筑波技術大 | F92: ﾂｸﾊﾞｷﾞｼﾞｭﾂﾀﾞｲ | G92: 383951 | H92: 未来新居浜(通) | I92: ﾐﾗｲﾆｲﾊﾏ | J92: 385332 | K92: 新居浜北 | L92: ﾆｲﾊﾏｷﾀ | P92: 400001 | Q92: 福岡陸協 | S92: 384088 | T92: YONDENｸﾗﾌﾞ | U92: 384088
A93: 384089 | B93: 松山ﾗﾝﾅｰｽﾞ | C93: ﾏﾂﾔﾏﾗﾝﾅｰｽﾞ | D93: 496075 | E93: 東洋大 | F93: ﾄｳﾖｳﾀﾞｲ | G93: 383952 | H93: 今治精華(通) | I93: ｲﾏﾊﾞﾘｾｲｶ | J93: 385333 | K93: 新居浜西 | L93: ﾆｲﾊﾏﾆｼ | S93: 384089 | T93: 松山ﾗﾝﾅｰｽﾞ | U93: 384089
A94: 384090 | B94: 小松中教 | C94: ｺﾏﾂﾁｭｳｷｮｳ | D94: 496076 | E94: 東海大 | F94: ﾄｳｶｲﾀﾞｲ | J94: 385334 | K94: 泉川 | L94: ｲｽﾞﾐｶﾜ | S94: 384090 | T94: 小松中教 | U94: 384090
A95: 384091 | B95: 愛南体協 | C95: ｱｲﾅﾝﾀｲｷｮｳ | D95: 496077 | E95: 亜細亜大 | F95: ｱｼﾞｱﾀﾞｲ | J95: 385335 | K95: 二名津 | L95: ﾌﾀﾅﾂﾞ | S95: 384091 | T95: 愛南体協 | U95: 384091
A96: 384092 | B96: 東予陸上ｸﾗﾌﾞ | C96: ﾄｳﾖﾘｸｼﾞｮｳｸﾗﾌﾞ | D96: 496078 | E96: 徳島大 | F96: ﾄｸｼﾏﾀﾞｲ | J96: 385336 | K96: 中浦 | L96: ﾅｶｳﾗ | S96: 384092 | T96: 東予陸上ｸﾗﾌﾞ | U96: 384092
A97: 384093 | B97: 四国中央市陸協 | C97: ｼｺｸﾁｭｳｵｳｼﾘｯｷｮｳ | D97: 496079 | E97: 近畿大 | F97: ｷﾝｷﾀﾞｲ | J97: 385337 | K97: 今東中等 | L97: ｲﾏﾋｶﾞｼﾁｭｳﾄｳ | S97: 384093 | T97: 四国中央市陸協 | U97: 384093
A98: 384094 | B98: 今治明徳高教 | C98: ｲﾏﾊﾞﾘﾒｲﾄｸｺｳｷｮｳｲﾝ | D98: 496080 | E98: 福山大 | F98: ﾌｸﾔﾏﾀﾞｲ | J98: 385338 | K98: 松山西中等 | L98: ﾏﾂﾔﾏﾆｼﾁｭｳﾄｳ | S98: 384094 | T98: 今治明徳高教 | U98: 384094
A99: 384095 | B99: 新居浜東高教 | C99: ﾆｲﾊﾏﾋｶﾞｼｺｳｷｮｳｲﾝ | D99: 496081 | E99: 広島修道大 | F99: ﾋﾛｼﾏｼｭｳﾄﾞｳﾀﾞｲ | J99: 385339 | K99: 川内 | L99: ｶﾜｳﾁ | S99: 384095 | T99: 新居浜東高教 | U99: 384095
A100: 384096 | B100: 土居高教 | C100: ﾄﾞｲｺｳｷｮｳｲﾝ | D100: 496082 | E100: 香川大 | F100: ｶｶﾞﾜﾀﾞｲ | J100: 385354 | K100: 湯山 | L100: ﾕﾔﾏ | S100: 384096 | T100: 土居高教 | U100: 384096
A101: 384097 | B101: 宇和島水産高教 | C101: ｳﾜｼﾞﾏｽｲｻﾝｺｳｷｮｳｲﾝ | D101: 496083 | E101: 北九州市立大 | F101: ｷﾀｷｭｳｼｭｳｲﾁﾘﾂﾀﾞｲ | J101: 386002 | K101: 北郷 | L101: ｷﾀｺﾞｳ | S101: 384097 | T101: 宇和島水産高教 | U101: 384097
A102: 384098 | B102: Ryuow | C102: ﾘｭｳｵｳ | D102: 496084 | E102: 麗澤大 | F102: ﾚｲﾀｸﾀﾞｲ | J102: 386003 | K102: 花 | L102: ﾊﾅ | S102: 384098 | T102: Ryuow | U102: 384098
A103: 384099 | B103: 宇和島東高教 | C103: ｳﾜｼﾞﾏﾋｶﾞｼｺｳｷｮｳｲﾝ | D103: 496085 | E103: 大阪成蹊大 | F103: ｵｵｻｶｾｲｹｲﾀﾞｲ | J103: 386008 | K103: 西条東 | L103: ｻｲｼﾞｮｳﾋｶﾞｼ | S103: 384099 | T103: 宇和島東高教 | U103: 384099
A104: 384100 | B104: 北伊予小教 | C104: ｷﾀｲﾖｼｮｳｷｮｳｲﾝ | D104: 496086 | E104: びわこ成蹊ｽﾎﾟｰﾂ大 | F104: ﾋﾞﾜｺｾｲｹｲｽﾎﾟｰﾂﾀﾞｲ | J104: 386017 | K104: 丹原西 | L104: ﾀﾝﾊﾞﾗﾆｼ | S104: 384100 | T104: 北伊予小教 | U104: 384100
A105: 384101 | B105: 伊予農高教 | C105: ｲﾖﾉｳｺｳｷｮｳｲﾝ | D105: 496087 | E105: 京都産業大 | F105: ｷｮｳﾄｻﾝｷﾞｮｳﾀﾞｲ | J105: 386018 | K105: 丹原東 | L105: ﾀﾝﾊﾞﾗﾋｶﾞｼ | S105: 384101 | T105: 伊予農高教 | U105: 384101
... A117: 384114 | B117: ＮＡ | C117: NA | D117: 497017 | E117: 関西福祉大 | F117: ｶﾝｻｲﾌｸｼﾀﾞｲ | J117: 387046 | K117: 新田青雲中等 | L117: ﾆｯﾀｾｲｳｳﾝﾁｭｳﾄｳﾁｭｳ | S117: 384114 | T117: ＮＡ | U117: 384114
A118: 384115 | B118: 株式会社INA | C118: ｶﾌﾞｼｷｶﾞｲｼｬINA | J118: 387050 | K118: 済美平成中等 | L118: ｻｲﾋﾞﾍｲｾｲﾁｭｳﾄｳﾁｭｳ | S118: 384115 | T118: 株式会社INA | U118: 384115
A119: 384116 | B119: 松山レディＲＣ | C119: ﾏﾂﾔﾏﾚﾃﾞｨRC | J119: 387051 | K119: 宇南中等 | L119: ｳﾅﾝﾁｭｳﾄｳ | S119: 384116 | T119: 松山レディＲＣ | U119: 384116
A120: 384117 | B120: ＳＳＣ | C120: SSC | J120: 387052 | K120: 菊間 | L120: ｷｸﾏ | S120: 384117 | T120: ＳＳＣ | U120: 384117
A121: 384118 | B121: Fujiyama Athlete | C121: Fujiyama Athlete | J121: 387053 | K121: 三好 | L121: ﾐﾖｼ | S121: 384118 | T121: Fujiyama Athlete | U121: 384118
A122: 384119 | B122: ＲＬクラブ | C122: RLｸﾗﾌﾞ | J122: 387054 | K122: 美川 | L122: ﾐｶﾜ | S122: 384119 | T122: ＲＬクラブ | U122: 384119
A123: 384120 | B123: 愛媛ＲＡ | C123: ｴﾋﾒﾗﾝﾆﾝｸﾞｱｶﾃﾞﾐｰ | J123: 387056 | K123: 北伊予 | L123: ｷﾀｲﾖ | S123: 384120 | T123: 愛媛ＲＡ | U123: 384120
J124: 387057 | K124: 愛宕 | L124: ｱﾀｺﾞ | S124: 490001 | T124: 北海道大 | U124: 490001
J125: 387058 | K125: 松山聾 | L125: ﾏﾂﾔﾏﾛｳ | S125: 490010 | T125: 東北大 | U125: 490010
J126: 387059 | K126: 城川 | L126: ｼﾛｶﾜ | S126: 490016 | T126: 筑波大 | U126: 490016
J127: 387060 | K127: 八代 | L127: ﾔｼﾛ | S127: 490024 | T127: 東京学芸大 | U127: 490024
J128: 387068 | K128: 伊予 | L128: ｲﾖ | S128: 490025 | T128: 一橋大 | U128: 490025
J129: 387069 | K129: 宇和特別支援 | L129: ｳﾜﾄｸﾍﾞﾂｼｴﾝ | S129: 490034 | T129: 横国大 | U129: 490034
J130: 387070 | K130: 新谷 | L130: ﾆｲﾔ | S130: 490051 | T130: 京都大 | U130: 490051
J131: 387071 | K131: 松前 | L131: ﾏｻｷ | S131: 490053 | T131: 大阪教育大 | U131: 490053
J132: 387072 | K132: 一本松 | L132: ｲｯﾎﾟﾝﾏﾂ | S132: 490058 | T132: 和歌山大 | U132: 490058
J133: 387073 | K133: 大生院 | L133: ｵｵｼﾞｮｳｲﾝ | S133: 490062 | T133: 広島大 | U133: 490062
J134: 387074 | K134: 松山東 | L134: ﾏﾂﾔﾏﾋｶﾞｼ | S134: 490064 | T134: 島根大 | U134: 490064
J135: 387075 | K135: 新居浜南 | L135: ﾆｲﾊﾏﾐﾅﾐ | S135: 490066 | T135: 愛媛大 | U135: 490066
... J153: 387517 | K153: フジヤマアスリートクラブ | L153: ﾌｼﾞﾔﾏｱｽﾘｰﾄｸﾗﾌﾞ | S153: 492142 | T153: 東京工業大 | U153: 492142
S154: 492173 | T154: 中京大 | U154: 492173
S155: 492174 | T155: 愛知学院大 | U155: 492174
S156: 492201 | T156: 龍谷大 | U156: 492201
S157: 492202 | T157: 大谷大 | U157: 492202
S158: 492204 | T158: 大阪学院大 | U158: 492204
S159: 492205 | T159: 大阪経済大 | U159: 492205
S160: 492206 | T160: 大阪経法大 | U160: 492206
S161: 492213 | T161: 大阪体育大 | U161: 492213
S162: 492217 | T162: 追手門学大 | U162: 492217
S163: 492218 | T163: 関西大 | U163: 492218
S164: 492237 | T164: 神戸学院大 | U164: 492237
S165: 492244 | T165: 園田学園女大 | U165: 492244
... S652: 400001 | T652: 福岡陸協 | U652: 400001
